BEGIN:VCALENDAR
VERSION:2.0
PRODID:-//eventon.com NONSGML v1.0//EN
CALSCALE:GREGORIAN
METHOD:PUBLISH
BEGIN:VEVENT
UID:69e5273b3503f
DTSTAMP:20260419T190427Z
DTSTART:20250918T203000Z
DTEND:20250918T220000Z
LOCATION:
SUMMARY:1:30pm - 3:00pm Concurrent Sessions 6A-6E
DESCRIPTION:6A: Low-Cost & Sustainable Solutions 6B: Behavior in Recent Ear
 thquakes 6C: Energy Dissipation - Modeling & Analysis 6D: Experimental Eval
 uation of Devices 6E: Seismic Isolation - Innovative Applications\nhttps://
 19wcsi.org/events/130pm-300pm-concurrent-sessions-2/
URL:https://19wcsi.org/events/130pm-300pm-concurrent-sessions-2/
END:VEVENT
END:VCALENDAR