BEGIN:VCALENDAR
VERSION:2.0
PRODID:-//eventon.com NONSGML v1.0//EN
CALSCALE:GREGORIAN
METHOD:PUBLISH
BEGIN:VEVENT
UID:69e794dabe659
DTSTAMP:20260421T151642Z
DTSTART:20250916T203000Z
DTEND:20250916T220000Z
LOCATION:
SUMMARY:1:30pm - 3:00pm Concurrent Sessions 2A-2E
DESCRIPTION:2A: Seismic Isolation - New Structure Applications 2B: Seismic 
 Isolation - Modeling & Analysis 2C: Energy Dissipation - Innovative Applica
 tions 2D: Seismic Isolation - Performance & Functionality 2E: Seismic Hazar
 d & Ground Motions\nhttps://19wcsi.org/events/1230pm-300pm-concurrent-sessi
 ons/
URL:https://19wcsi.org/events/1230pm-300pm-concurrent-sessions/
END:VEVENT
END:VCALENDAR