BEGIN:VCALENDAR
VERSION:2.0
PRODID:-//eventon.com NONSGML v1.0//EN
CALSCALE:GREGORIAN
METHOD:PUBLISH
BEGIN:VEVENT
UID:69e52615a83f5
DTSTAMP:20260419T185933Z
DTSTART:20250915T204500Z
DTEND:20250915T220000Z
LOCATION:
SUMMARY:International Bridge Workshop Breakout Sessions
DESCRIPTION:Property Variability Testing Design & Analysis Long-Span Bridge
 s Future Directions\nhttps://19wcsi.org/events/breakout-sessions/
URL:https://19wcsi.org/events/breakout-sessions/
END:VEVENT
END:VCALENDAR