BEGIN:VCALENDAR
VERSION:2.0
PRODID:-//eventon.com NONSGML v1.0//EN
CALSCALE:GREGORIAN
METHOD:PUBLISH
BEGIN:VEVENT
UID:69e4f3e5f3634
DTSTAMP:20260419T152525Z
DTSTART:20250916T220000Z
DTEND:20250917T001500Z
LOCATION:
SUMMARY:Special Session: Hospitals
DESCRIPTION:Moderator: Dr. Bahadir Sadan Invited Speakers Panel Discussion\
 nhttps://19wcsi.org/events/special-session-hospitals/
URL:https://19wcsi.org/events/special-session-hospitals/
END:VEVENT
END:VCALENDAR